BEGIN:VCALENDAR
VERSION:2.0
PRODID:-//APEL Sainte Jeanne d&#039;Arc d&#039;Herblay - ECPv6.15.20//NONSGML v1.0//EN
CALSCALE:GREGORIAN
METHOD:PUBLISH
X-ORIGINAL-URL:https://apelsaintejeannedarcherblay.fr
X-WR-CALDESC:Évènements pour APEL Sainte Jeanne d&#039;Arc d&#039;Herblay
REFRESH-INTERVAL;VALUE=DURATION:PT1H
X-Robots-Tag:noindex
X-PUBLISHED-TTL:PT1H
BEGIN:VTIMEZONE
TZID:UTC
BEGIN:STANDARD
TZOFFSETFROM:+0000
TZOFFSETTO:+0000
TZNAME:UTC
DTSTART:20240101T000000
END:STANDARD
END:VTIMEZONE
BEGIN:VEVENT
DTSTART;TZID=UTC:20251220T080000
DTEND;TZID=UTC:20260104T235900
DTSTAMP:20260420T081355
CREATED:20251021T084124Z
LAST-MODIFIED:20251021T084124Z
UID:2060-1766217600-1767571140@apelsaintejeannedarcherblay.fr
SUMMARY:Vacances de Noël
DESCRIPTION:
URL:https://apelsaintejeannedarcherblay.fr/event/vacances-de-noel
CATEGORIES:Vacances scolaires
END:VEVENT
END:VCALENDAR