BEGIN:VCALENDAR
VERSION:2.0
PRODID:-//APEL Sainte Jeanne d&#039;Arc d&#039;Herblay - ECPv6.15.20//NONSGML v1.0//EN
CALSCALE:GREGORIAN
METHOD:PUBLISH
X-ORIGINAL-URL:https://apelsaintejeannedarcherblay.fr
X-WR-CALDESC:Évènements pour APEL Sainte Jeanne d&#039;Arc d&#039;Herblay
REFRESH-INTERVAL;VALUE=DURATION:PT1H
X-Robots-Tag:noindex
X-PUBLISHED-TTL:PT1H
BEGIN:VTIMEZONE
TZID:UTC
BEGIN:STANDARD
TZOFFSETFROM:+0000
TZOFFSETTO:+0000
TZNAME:UTC
DTSTART:20240101T000000
END:STANDARD
END:VTIMEZONE
BEGIN:VEVENT
DTSTART;VALUE=DATE:20250408
DTEND;VALUE=DATE:20250409
DTSTAMP:20260423T162754
CREATED:20250313T095747Z
LAST-MODIFIED:20250313T100125Z
UID:1944-1744070400-1744156799@apelsaintejeannedarcherblay.fr
SUMMARY:Photos de classe en groupe
DESCRIPTION:
URL:https://apelsaintejeannedarcherblay.fr/event/photos-de-classe-en-groupe
LOCATION:École Sainte Jeanne d’Arc\, 2-4 Chemin des Tartres\, Herblay sur Seine\, 95220\, France
CATEGORIES:Évènements Apel
ATTACH;FMTTYPE=image/jpeg:https://apelsaintejeannedarcherblay.fr/wp-content/uploads/2025/03/46614-scaled.jpeg
END:VEVENT
END:VCALENDAR