BEGIN:VCALENDAR
VERSION:2.0
PRODID:-//APEL Sainte Jeanne d&#039;Arc d&#039;Herblay - ECPv6.15.20//NONSGML v1.0//EN
CALSCALE:GREGORIAN
METHOD:PUBLISH
X-ORIGINAL-URL:https://apelsaintejeannedarcherblay.fr
X-WR-CALDESC:Évènements pour APEL Sainte Jeanne d&#039;Arc d&#039;Herblay
REFRESH-INTERVAL;VALUE=DURATION:PT1H
X-Robots-Tag:noindex
X-PUBLISHED-TTL:PT1H
BEGIN:VTIMEZONE
TZID:UTC
BEGIN:STANDARD
TZOFFSETFROM:+0000
TZOFFSETTO:+0000
TZNAME:UTC
DTSTART:20230101T000000
END:STANDARD
END:VTIMEZONE
BEGIN:VEVENT
DTSTART;TZID=UTC:20241130T080000
DTEND;TZID=UTC:20241130T140000
DTSTAMP:20260425T122731
CREATED:20241104T121945Z
LAST-MODIFIED:20250113T114228Z
UID:1774-1732953600-1732975200@apelsaintejeannedarcherblay.fr
SUMMARY:Marché de Noël
DESCRIPTION:Rendez-vous incontournable de notre école\, le marché de Noël vous réserve\, cette année encore\, de belles surprises et l’occasion de gâter vos proches auprès de nos exposants. \nNe manquez pas le stand des GS et CP dont les bénéfices leur permettront de financer leur voyage à Guédelon! \nGourmandises\, boissons chaudes ou froides\, articles de Noël\, le stand de l’Apel vous promet un peu de réconfort pour affronter cette froide journée! \nL’intégralité des bénéfices de ce stand servira à financer les projets pédagogiques – sorties et voyages scolaires des enseignantes. \nVenez nombreux et en famille!
URL:https://apelsaintejeannedarcherblay.fr/event/marche-de-noel
LOCATION:École Sainte Jeanne d’Arc\, 2-4 Chemin des Tartres\, Herblay sur Seine\, 95220\, France
CATEGORIES:Évènements Apel
ATTACH;FMTTYPE=image/jpeg:https://apelsaintejeannedarcherblay.fr/wp-content/uploads/2024/12/bd69667c-da8a-485e-bf93-2e2465c5060e.jpg
END:VEVENT
END:VCALENDAR