BEGIN:VCALENDAR
VERSION:2.0
PRODID:-//APEL Sainte Jeanne d&#039;Arc d&#039;Herblay - ECPv6.15.20//NONSGML v1.0//EN
CALSCALE:GREGORIAN
METHOD:PUBLISH
X-ORIGINAL-URL:https://apelsaintejeannedarcherblay.fr
X-WR-CALDESC:Évènements pour APEL Sainte Jeanne d&#039;Arc d&#039;Herblay
REFRESH-INTERVAL;VALUE=DURATION:PT1H
X-Robots-Tag:noindex
X-PUBLISHED-TTL:PT1H
BEGIN:VTIMEZONE
TZID:UTC
BEGIN:STANDARD
TZOFFSETFROM:+0000
TZOFFSETTO:+0000
TZNAME:UTC
DTSTART:20240101T000000
END:STANDARD
END:VTIMEZONE
BEGIN:VEVENT
DTSTART;TZID=UTC:20250516T080000
DTEND;TZID=UTC:20250516T170000
DTSTAMP:20260423T130827
CREATED:20250331T092102Z
LAST-MODIFIED:20250331T092212Z
UID:1967-1747382400-1747414800@apelsaintejeannedarcherblay.fr
SUMMARY:Festival du livre
DESCRIPTION:Cette année\, le Festival du livre se déroulera en présence du « Shakili ». Une collaboration attendue avec la présentation de plusieurs ouvrages dont les thèmes seront au préalable choisis par les enseignantes de l’école.
URL:https://apelsaintejeannedarcherblay.fr/event/festival-du-livre
LOCATION:École Sainte Jeanne d’Arc\, 2-4 Chemin des Tartres\, Herblay sur Seine\, 95220\, France
CATEGORIES:Évènements Apel
ATTACH;FMTTYPE=image/jpeg:https://apelsaintejeannedarcherblay.fr/wp-content/uploads/2025/03/6857256-scaled.jpeg
END:VEVENT
END:VCALENDAR