BEGIN:VCALENDAR
VERSION:2.0
PRODID:-//APEL Sainte Jeanne d&#039;Arc d&#039;Herblay - ECPv6.15.20//NONSGML v1.0//EN
CALSCALE:GREGORIAN
METHOD:PUBLISH
X-ORIGINAL-URL:https://apelsaintejeannedarcherblay.fr
X-WR-CALDESC:Évènements pour APEL Sainte Jeanne d&#039;Arc d&#039;Herblay
REFRESH-INTERVAL;VALUE=DURATION:PT1H
X-Robots-Tag:noindex
X-PUBLISHED-TTL:PT1H
BEGIN:VTIMEZONE
TZID:UTC
BEGIN:STANDARD
TZOFFSETFROM:+0000
TZOFFSETTO:+0000
TZNAME:UTC
DTSTART:20240101T000000
END:STANDARD
END:VTIMEZONE
BEGIN:VEVENT
DTSTART;TZID=UTC:20250317T080000
DTEND;TZID=UTC:20250322T170000
DTSTAMP:20260423T162701
CREATED:20250113T082133Z
LAST-MODIFIED:20250113T082133Z
UID:1903-1742198400-1742662800@apelsaintejeannedarcherblay.fr
SUMMARY:Semaine des Apel 2025
DESCRIPTION:Chaque année\, la semaine des Apel est l’occasion pour le mouvement de se mobiliser et de conjuguer l’action avec le plaisir de mieux se connaître et d’échanger autour d’un thème qui implique les parents. Sécurité routière\, alimentation\, lecture… De nombreux thèmes ont déjà été abordés et de nombreuses actions ont été menées chaque année par les Apel d’établissement. \nDu 17 au 22 mars 2025\, l’Apel lancera des actions au sein de l’établissement autour du thème « Comment être heureux à l’école? ». \n  \n 
URL:https://apelsaintejeannedarcherblay.fr/event/semaine-des-apel-2025
LOCATION:École Sainte Jeanne d’Arc\, 2-4 Chemin des Tartres\, Herblay sur Seine\, 95220\, France
CATEGORIES:Évènements Apel
ATTACH;FMTTYPE=image/jpeg:https://apelsaintejeannedarcherblay.fr/wp-content/uploads/2025/01/Image-13-01-2025-a-09.16.jpeg
END:VEVENT
END:VCALENDAR